BEGIN:VCALENDAR
VERSION:2.0
PRODID:-//TSV Forstenried e.V. - ECPv6.15.20//NONSGML v1.0//EN
CALSCALE:GREGORIAN
METHOD:PUBLISH
X-ORIGINAL-URL:https://www.tsv-forstenried.de
X-WR-CALDESC:Veranstaltungen für TSV Forstenried e.V.
REFRESH-INTERVAL;VALUE=DURATION:PT1H
X-Robots-Tag:noindex
X-PUBLISHED-TTL:PT1H
BEGIN:VTIMEZONE
TZID:Europe/Berlin
BEGIN:DAYLIGHT
TZOFFSETFROM:+0100
TZOFFSETTO:+0200
TZNAME:CEST
DTSTART:20200329T010000
END:DAYLIGHT
BEGIN:STANDARD
TZOFFSETFROM:+0200
TZOFFSETTO:+0100
TZNAME:CET
DTSTART:20201025T010000
END:STANDARD
BEGIN:DAYLIGHT
TZOFFSETFROM:+0100
TZOFFSETTO:+0200
TZNAME:CEST
DTSTART:20210328T010000
END:DAYLIGHT
BEGIN:STANDARD
TZOFFSETFROM:+0200
TZOFFSETTO:+0100
TZNAME:CET
DTSTART:20211031T010000
END:STANDARD
BEGIN:DAYLIGHT
TZOFFSETFROM:+0100
TZOFFSETTO:+0200
TZNAME:CEST
DTSTART:20220327T010000
END:DAYLIGHT
BEGIN:STANDARD
TZOFFSETFROM:+0200
TZOFFSETTO:+0100
TZNAME:CET
DTSTART:20221030T010000
END:STANDARD
END:VTIMEZONE
BEGIN:VEVENT
DTSTART;VALUE=DATE:20210104
DTEND;VALUE=DATE:20210105
DTSTAMP:20260423T123925
CREATED:20200302T113232Z
LAST-MODIFIED:20200314T170615Z
UID:10001591-1609718400-1609804799@www.tsv-forstenried.de
SUMMARY:Verschiebung - Erst nach Ostern: Vashvi Thaker mit 2 neuen Stunden - Kidz Yoga und Yoga
DESCRIPTION:Bei Vashvi Thaker 2 neue Kurse im Sportraum: \nMontag: 16:25-17:10 Uhr Kidz Yoga\nFreitag: 11:00-12:00 Yoga
URL:https://www.tsv-forstenried.de/event/ab-16-maerz-gibt-es-bei-vashvi-thaker-2-neue-stunden-kidz-yoga-und-yoga/2021-01-04/
LOCATION:Sportraum / TSV Forstenried\, Graubündener Str. 102\, München\, Bayern\, 81475\, Deutschland
CATEGORIES:Gymnastik,Kursplanänderung,Termine,Turnen
ATTACH;FMTTYPE=image/png:https://www.tsv-forstenried.de/wp-content/uploads/2020/03/kidz-yoga.png
END:VEVENT
BEGIN:VEVENT
DTSTART;VALUE=DATE:20210110
DTEND;VALUE=DATE:20210315
DTSTAMP:20260423T123925
CREATED:20201104T135025Z
LAST-MODIFIED:20210216T182135Z
UID:10001768-1610236800-1615766399@www.tsv-forstenried.de
SUMMARY:Öffnungszeiten der Geschätsstelle im Dezember/Januar
DESCRIPTION:
URL:https://www.tsv-forstenried.de/event/oeffnungszeiten-der-geschaetsstelle-im-november/
LOCATION:Bayern
CATEGORIES:Termine
END:VEVENT
BEGIN:VEVENT
DTSTART;VALUE=DATE:20210111
DTEND;VALUE=DATE:20210112
DTSTAMP:20260423T123925
CREATED:20200302T113232Z
LAST-MODIFIED:20200314T170615Z
UID:10001592-1610323200-1610409599@www.tsv-forstenried.de
SUMMARY:Verschiebung - Erst nach Ostern: Vashvi Thaker mit 2 neuen Stunden - Kidz Yoga und Yoga
DESCRIPTION:Bei Vashvi Thaker 2 neue Kurse im Sportraum: \nMontag: 16:25-17:10 Uhr Kidz Yoga\nFreitag: 11:00-12:00 Yoga
URL:https://www.tsv-forstenried.de/event/ab-16-maerz-gibt-es-bei-vashvi-thaker-2-neue-stunden-kidz-yoga-und-yoga/2021-01-11/
LOCATION:Sportraum / TSV Forstenried\, Graubündener Str. 102\, München\, Bayern\, 81475\, Deutschland
CATEGORIES:Gymnastik,Kursplanänderung,Termine,Turnen
ATTACH;FMTTYPE=image/png:https://www.tsv-forstenried.de/wp-content/uploads/2020/03/kidz-yoga.png
END:VEVENT
BEGIN:VEVENT
DTSTART;TZID=Europe/Berlin:20210111T180000
DTEND;TZID=Europe/Berlin:20210111T190000
DTSTAMP:20260423T123925
CREATED:20210109T204623Z
LAST-MODIFIED:20210109T204952Z
UID:10001785-1610388000-1610391600@www.tsv-forstenried.de
SUMMARY:U14 - Zoom Training (Jan./Feb.)
DESCRIPTION:Solange kein Training in der Halle möglich ist\, wird ein Zoom-Online-Training angeboten. \nFalls nicht bekannt die Details zur Einwahl unter basketball@tsv-forstenried.de erfragen.
URL:https://www.tsv-forstenried.de/event/u14-zoom-training-jan-feb/2021-01-11/
LOCATION:Bayern
CATEGORIES:Basketball
ATTACH;FMTTYPE=image/png:https://www.tsv-forstenried.de/wp-content/uploads/2021/01/zoom.png
END:VEVENT
BEGIN:VEVENT
DTSTART;TZID=Europe/Berlin:20210111T201500
DTEND;TZID=Europe/Berlin:20210111T213000
DTSTAMP:20260423T123925
CREATED:20210109T205452Z
LAST-MODIFIED:20210109T205601Z
UID:10001806-1610396100-1610400600@www.tsv-forstenried.de
SUMMARY:Damen - Zoom Training (Jan./Feb.)
DESCRIPTION:
URL:https://www.tsv-forstenried.de/event/damen-zoom-training-jan-feb/2021-01-11/
LOCATION:Bayern
CATEGORIES:Basketball
ATTACH;FMTTYPE=image/png:https://www.tsv-forstenried.de/wp-content/uploads/2021/01/zoom.png
END:VEVENT
BEGIN:VEVENT
DTSTART;TZID=Europe/Berlin:20210113T180000
DTEND;TZID=Europe/Berlin:20210113T190000
DTSTAMP:20260423T123925
CREATED:20210109T200437Z
LAST-MODIFIED:20210109T205112Z
UID:10001771-1610560800-1610564400@www.tsv-forstenried.de
SUMMARY:U16 - Zoom Training (Jan./Feb.)
DESCRIPTION:Solange kein Training in der Halle möglich ist\, wird ein Zoom-Online-Training angeboten. \nFalls nicht bekannt die Details zur Einwahl unter u16-bb@tsv-forstenried.de erfragen.
URL:https://www.tsv-forstenried.de/event/u16-zoom-training-jan-feb/2021-01-13/
LOCATION:Bayern
CATEGORIES:Basketball
ATTACH;FMTTYPE=image/png:https://www.tsv-forstenried.de/wp-content/uploads/2021/01/zoom.png
END:VEVENT
BEGIN:VEVENT
DTSTART;TZID=Europe/Berlin:20210113T180000
DTEND;TZID=Europe/Berlin:20210113T190000
DTSTAMP:20260423T123925
CREATED:20210109T204623Z
LAST-MODIFIED:20210109T204952Z
UID:10001786-1610560800-1610564400@www.tsv-forstenried.de
SUMMARY:U14 - Zoom Training (Jan./Feb.)
DESCRIPTION:Solange kein Training in der Halle möglich ist\, wird ein Zoom-Online-Training angeboten. \nFalls nicht bekannt die Details zur Einwahl unter basketball@tsv-forstenried.de erfragen.
URL:https://www.tsv-forstenried.de/event/u14-zoom-training-jan-feb/2021-01-13/
LOCATION:Bayern
CATEGORIES:Basketball
ATTACH;FMTTYPE=image/png:https://www.tsv-forstenried.de/wp-content/uploads/2021/01/zoom.png
END:VEVENT
BEGIN:VEVENT
DTSTART;TZID=Europe/Berlin:20210114T201500
DTEND;TZID=Europe/Berlin:20210114T213000
DTSTAMP:20260423T123925
CREATED:20210109T205452Z
LAST-MODIFIED:20210109T205601Z
UID:10001807-1610655300-1610659800@www.tsv-forstenried.de
SUMMARY:Damen - Zoom Training (Jan./Feb.)
DESCRIPTION:
URL:https://www.tsv-forstenried.de/event/damen-zoom-training-jan-feb/2021-01-14/
LOCATION:Bayern
CATEGORIES:Basketball
ATTACH;FMTTYPE=image/png:https://www.tsv-forstenried.de/wp-content/uploads/2021/01/zoom.png
END:VEVENT
BEGIN:VEVENT
DTSTART;TZID=Europe/Berlin:20210115T180000
DTEND;TZID=Europe/Berlin:20210115T190000
DTSTAMP:20260423T123925
CREATED:20210109T200437Z
LAST-MODIFIED:20210109T205112Z
UID:10001772-1610733600-1610737200@www.tsv-forstenried.de
SUMMARY:U16 - Zoom Training (Jan./Feb.)
DESCRIPTION:Solange kein Training in der Halle möglich ist\, wird ein Zoom-Online-Training angeboten. \nFalls nicht bekannt die Details zur Einwahl unter u16-bb@tsv-forstenried.de erfragen.
URL:https://www.tsv-forstenried.de/event/u16-zoom-training-jan-feb/2021-01-15/
LOCATION:Bayern
CATEGORIES:Basketball
ATTACH;FMTTYPE=image/png:https://www.tsv-forstenried.de/wp-content/uploads/2021/01/zoom.png
END:VEVENT
BEGIN:VEVENT
DTSTART;TZID=Europe/Berlin:20210115T180000
DTEND;TZID=Europe/Berlin:20210115T190000
DTSTAMP:20260423T123925
CREATED:20210109T204623Z
LAST-MODIFIED:20210109T204952Z
UID:10001787-1610733600-1610737200@www.tsv-forstenried.de
SUMMARY:U14 - Zoom Training (Jan./Feb.)
DESCRIPTION:Solange kein Training in der Halle möglich ist\, wird ein Zoom-Online-Training angeboten. \nFalls nicht bekannt die Details zur Einwahl unter basketball@tsv-forstenried.de erfragen.
URL:https://www.tsv-forstenried.de/event/u14-zoom-training-jan-feb/2021-01-15/
LOCATION:Bayern
CATEGORIES:Basketball
ATTACH;FMTTYPE=image/png:https://www.tsv-forstenried.de/wp-content/uploads/2021/01/zoom.png
END:VEVENT
BEGIN:VEVENT
DTSTART;VALUE=DATE:20210118
DTEND;VALUE=DATE:20210119
DTSTAMP:20260423T123925
CREATED:20200302T113232Z
LAST-MODIFIED:20200314T170615Z
UID:10001593-1610928000-1611014399@www.tsv-forstenried.de
SUMMARY:Verschiebung - Erst nach Ostern: Vashvi Thaker mit 2 neuen Stunden - Kidz Yoga und Yoga
DESCRIPTION:Bei Vashvi Thaker 2 neue Kurse im Sportraum: \nMontag: 16:25-17:10 Uhr Kidz Yoga\nFreitag: 11:00-12:00 Yoga
URL:https://www.tsv-forstenried.de/event/ab-16-maerz-gibt-es-bei-vashvi-thaker-2-neue-stunden-kidz-yoga-und-yoga/2021-01-18/
LOCATION:Sportraum / TSV Forstenried\, Graubündener Str. 102\, München\, Bayern\, 81475\, Deutschland
CATEGORIES:Gymnastik,Kursplanänderung,Termine,Turnen
ATTACH;FMTTYPE=image/png:https://www.tsv-forstenried.de/wp-content/uploads/2020/03/kidz-yoga.png
END:VEVENT
BEGIN:VEVENT
DTSTART;TZID=Europe/Berlin:20210118T180000
DTEND;TZID=Europe/Berlin:20210118T190000
DTSTAMP:20260423T123925
CREATED:20210109T204623Z
LAST-MODIFIED:20210109T204952Z
UID:10001788-1610992800-1610996400@www.tsv-forstenried.de
SUMMARY:U14 - Zoom Training (Jan./Feb.)
DESCRIPTION:Solange kein Training in der Halle möglich ist\, wird ein Zoom-Online-Training angeboten. \nFalls nicht bekannt die Details zur Einwahl unter basketball@tsv-forstenried.de erfragen.
URL:https://www.tsv-forstenried.de/event/u14-zoom-training-jan-feb/2021-01-18/
LOCATION:Bayern
CATEGORIES:Basketball
ATTACH;FMTTYPE=image/png:https://www.tsv-forstenried.de/wp-content/uploads/2021/01/zoom.png
END:VEVENT
BEGIN:VEVENT
DTSTART;TZID=Europe/Berlin:20210118T201500
DTEND;TZID=Europe/Berlin:20210118T213000
DTSTAMP:20260423T123925
CREATED:20210109T205452Z
LAST-MODIFIED:20210109T205601Z
UID:10001808-1611000900-1611005400@www.tsv-forstenried.de
SUMMARY:Damen - Zoom Training (Jan./Feb.)
DESCRIPTION:
URL:https://www.tsv-forstenried.de/event/damen-zoom-training-jan-feb/2021-01-18/
LOCATION:Bayern
CATEGORIES:Basketball
ATTACH;FMTTYPE=image/png:https://www.tsv-forstenried.de/wp-content/uploads/2021/01/zoom.png
END:VEVENT
BEGIN:VEVENT
DTSTART;TZID=Europe/Berlin:20210120T180000
DTEND;TZID=Europe/Berlin:20210120T190000
DTSTAMP:20260423T123925
CREATED:20210109T200437Z
LAST-MODIFIED:20210109T205112Z
UID:10001773-1611165600-1611169200@www.tsv-forstenried.de
SUMMARY:U16 - Zoom Training (Jan./Feb.)
DESCRIPTION:Solange kein Training in der Halle möglich ist\, wird ein Zoom-Online-Training angeboten. \nFalls nicht bekannt die Details zur Einwahl unter u16-bb@tsv-forstenried.de erfragen.
URL:https://www.tsv-forstenried.de/event/u16-zoom-training-jan-feb/2021-01-20/
LOCATION:Bayern
CATEGORIES:Basketball
ATTACH;FMTTYPE=image/png:https://www.tsv-forstenried.de/wp-content/uploads/2021/01/zoom.png
END:VEVENT
BEGIN:VEVENT
DTSTART;TZID=Europe/Berlin:20210120T180000
DTEND;TZID=Europe/Berlin:20210120T190000
DTSTAMP:20260423T123925
CREATED:20210109T204623Z
LAST-MODIFIED:20210109T204952Z
UID:10001789-1611165600-1611169200@www.tsv-forstenried.de
SUMMARY:U14 - Zoom Training (Jan./Feb.)
DESCRIPTION:Solange kein Training in der Halle möglich ist\, wird ein Zoom-Online-Training angeboten. \nFalls nicht bekannt die Details zur Einwahl unter basketball@tsv-forstenried.de erfragen.
URL:https://www.tsv-forstenried.de/event/u14-zoom-training-jan-feb/2021-01-20/
LOCATION:Bayern
CATEGORIES:Basketball
ATTACH;FMTTYPE=image/png:https://www.tsv-forstenried.de/wp-content/uploads/2021/01/zoom.png
END:VEVENT
BEGIN:VEVENT
DTSTART;TZID=Europe/Berlin:20210121T201500
DTEND;TZID=Europe/Berlin:20210121T213000
DTSTAMP:20260423T123925
CREATED:20210109T205452Z
LAST-MODIFIED:20210109T205601Z
UID:10001809-1611260100-1611264600@www.tsv-forstenried.de
SUMMARY:Damen - Zoom Training (Jan./Feb.)
DESCRIPTION:
URL:https://www.tsv-forstenried.de/event/damen-zoom-training-jan-feb/2021-01-21/
LOCATION:Bayern
CATEGORIES:Basketball
ATTACH;FMTTYPE=image/png:https://www.tsv-forstenried.de/wp-content/uploads/2021/01/zoom.png
END:VEVENT
BEGIN:VEVENT
DTSTART;TZID=Europe/Berlin:20210122T180000
DTEND;TZID=Europe/Berlin:20210122T190000
DTSTAMP:20260423T123925
CREATED:20210109T200437Z
LAST-MODIFIED:20210109T205112Z
UID:10001774-1611338400-1611342000@www.tsv-forstenried.de
SUMMARY:U16 - Zoom Training (Jan./Feb.)
DESCRIPTION:Solange kein Training in der Halle möglich ist\, wird ein Zoom-Online-Training angeboten. \nFalls nicht bekannt die Details zur Einwahl unter u16-bb@tsv-forstenried.de erfragen.
URL:https://www.tsv-forstenried.de/event/u16-zoom-training-jan-feb/2021-01-22/
LOCATION:Bayern
CATEGORIES:Basketball
ATTACH;FMTTYPE=image/png:https://www.tsv-forstenried.de/wp-content/uploads/2021/01/zoom.png
END:VEVENT
BEGIN:VEVENT
DTSTART;TZID=Europe/Berlin:20210122T180000
DTEND;TZID=Europe/Berlin:20210122T190000
DTSTAMP:20260423T123925
CREATED:20210109T204623Z
LAST-MODIFIED:20210109T204952Z
UID:10001790-1611338400-1611342000@www.tsv-forstenried.de
SUMMARY:U14 - Zoom Training (Jan./Feb.)
DESCRIPTION:Solange kein Training in der Halle möglich ist\, wird ein Zoom-Online-Training angeboten. \nFalls nicht bekannt die Details zur Einwahl unter basketball@tsv-forstenried.de erfragen.
URL:https://www.tsv-forstenried.de/event/u14-zoom-training-jan-feb/2021-01-22/
LOCATION:Bayern
CATEGORIES:Basketball
ATTACH;FMTTYPE=image/png:https://www.tsv-forstenried.de/wp-content/uploads/2021/01/zoom.png
END:VEVENT
BEGIN:VEVENT
DTSTART;VALUE=DATE:20210125
DTEND;VALUE=DATE:20210126
DTSTAMP:20260423T123925
CREATED:20200302T113232Z
LAST-MODIFIED:20200314T170615Z
UID:10001594-1611532800-1611619199@www.tsv-forstenried.de
SUMMARY:Verschiebung - Erst nach Ostern: Vashvi Thaker mit 2 neuen Stunden - Kidz Yoga und Yoga
DESCRIPTION:Bei Vashvi Thaker 2 neue Kurse im Sportraum: \nMontag: 16:25-17:10 Uhr Kidz Yoga\nFreitag: 11:00-12:00 Yoga
URL:https://www.tsv-forstenried.de/event/ab-16-maerz-gibt-es-bei-vashvi-thaker-2-neue-stunden-kidz-yoga-und-yoga/2021-01-25/
LOCATION:Sportraum / TSV Forstenried\, Graubündener Str. 102\, München\, Bayern\, 81475\, Deutschland
CATEGORIES:Gymnastik,Kursplanänderung,Termine,Turnen
ATTACH;FMTTYPE=image/png:https://www.tsv-forstenried.de/wp-content/uploads/2020/03/kidz-yoga.png
END:VEVENT
BEGIN:VEVENT
DTSTART;TZID=Europe/Berlin:20210125T180000
DTEND;TZID=Europe/Berlin:20210125T190000
DTSTAMP:20260423T123925
CREATED:20210109T204623Z
LAST-MODIFIED:20210109T204952Z
UID:10001791-1611597600-1611601200@www.tsv-forstenried.de
SUMMARY:U14 - Zoom Training (Jan./Feb.)
DESCRIPTION:Solange kein Training in der Halle möglich ist\, wird ein Zoom-Online-Training angeboten. \nFalls nicht bekannt die Details zur Einwahl unter basketball@tsv-forstenried.de erfragen.
URL:https://www.tsv-forstenried.de/event/u14-zoom-training-jan-feb/2021-01-25/
LOCATION:Bayern
CATEGORIES:Basketball
ATTACH;FMTTYPE=image/png:https://www.tsv-forstenried.de/wp-content/uploads/2021/01/zoom.png
END:VEVENT
BEGIN:VEVENT
DTSTART;TZID=Europe/Berlin:20210125T201500
DTEND;TZID=Europe/Berlin:20210125T213000
DTSTAMP:20260423T123925
CREATED:20210109T205452Z
LAST-MODIFIED:20210109T205601Z
UID:10001810-1611605700-1611610200@www.tsv-forstenried.de
SUMMARY:Damen - Zoom Training (Jan./Feb.)
DESCRIPTION:
URL:https://www.tsv-forstenried.de/event/damen-zoom-training-jan-feb/2021-01-25/
LOCATION:Bayern
CATEGORIES:Basketball
ATTACH;FMTTYPE=image/png:https://www.tsv-forstenried.de/wp-content/uploads/2021/01/zoom.png
END:VEVENT
BEGIN:VEVENT
DTSTART;TZID=Europe/Berlin:20210127T180000
DTEND;TZID=Europe/Berlin:20210127T190000
DTSTAMP:20260423T123925
CREATED:20210109T200437Z
LAST-MODIFIED:20210109T205112Z
UID:10001775-1611770400-1611774000@www.tsv-forstenried.de
SUMMARY:U16 - Zoom Training (Jan./Feb.)
DESCRIPTION:Solange kein Training in der Halle möglich ist\, wird ein Zoom-Online-Training angeboten. \nFalls nicht bekannt die Details zur Einwahl unter u16-bb@tsv-forstenried.de erfragen.
URL:https://www.tsv-forstenried.de/event/u16-zoom-training-jan-feb/2021-01-27/
LOCATION:Bayern
CATEGORIES:Basketball
ATTACH;FMTTYPE=image/png:https://www.tsv-forstenried.de/wp-content/uploads/2021/01/zoom.png
END:VEVENT
BEGIN:VEVENT
DTSTART;TZID=Europe/Berlin:20210127T180000
DTEND;TZID=Europe/Berlin:20210127T190000
DTSTAMP:20260423T123925
CREATED:20210109T204623Z
LAST-MODIFIED:20210109T204952Z
UID:10001792-1611770400-1611774000@www.tsv-forstenried.de
SUMMARY:U14 - Zoom Training (Jan./Feb.)
DESCRIPTION:Solange kein Training in der Halle möglich ist\, wird ein Zoom-Online-Training angeboten. \nFalls nicht bekannt die Details zur Einwahl unter basketball@tsv-forstenried.de erfragen.
URL:https://www.tsv-forstenried.de/event/u14-zoom-training-jan-feb/2021-01-27/
LOCATION:Bayern
CATEGORIES:Basketball
ATTACH;FMTTYPE=image/png:https://www.tsv-forstenried.de/wp-content/uploads/2021/01/zoom.png
END:VEVENT
BEGIN:VEVENT
DTSTART;TZID=Europe/Berlin:20210128T201500
DTEND;TZID=Europe/Berlin:20210128T213000
DTSTAMP:20260423T123925
CREATED:20210109T205452Z
LAST-MODIFIED:20210109T205601Z
UID:10001811-1611864900-1611869400@www.tsv-forstenried.de
SUMMARY:Damen - Zoom Training (Jan./Feb.)
DESCRIPTION:
URL:https://www.tsv-forstenried.de/event/damen-zoom-training-jan-feb/2021-01-28/
LOCATION:Bayern
CATEGORIES:Basketball
ATTACH;FMTTYPE=image/png:https://www.tsv-forstenried.de/wp-content/uploads/2021/01/zoom.png
END:VEVENT
BEGIN:VEVENT
DTSTART;TZID=Europe/Berlin:20210129T180000
DTEND;TZID=Europe/Berlin:20210129T190000
DTSTAMP:20260423T123925
CREATED:20210109T200437Z
LAST-MODIFIED:20210109T205112Z
UID:10001776-1611943200-1611946800@www.tsv-forstenried.de
SUMMARY:U16 - Zoom Training (Jan./Feb.)
DESCRIPTION:Solange kein Training in der Halle möglich ist\, wird ein Zoom-Online-Training angeboten. \nFalls nicht bekannt die Details zur Einwahl unter u16-bb@tsv-forstenried.de erfragen.
URL:https://www.tsv-forstenried.de/event/u16-zoom-training-jan-feb/2021-01-29/
LOCATION:Bayern
CATEGORIES:Basketball
ATTACH;FMTTYPE=image/png:https://www.tsv-forstenried.de/wp-content/uploads/2021/01/zoom.png
END:VEVENT
BEGIN:VEVENT
DTSTART;TZID=Europe/Berlin:20210129T180000
DTEND;TZID=Europe/Berlin:20210129T190000
DTSTAMP:20260423T123925
CREATED:20210109T204623Z
LAST-MODIFIED:20210109T204952Z
UID:10001793-1611943200-1611946800@www.tsv-forstenried.de
SUMMARY:U14 - Zoom Training (Jan./Feb.)
DESCRIPTION:Solange kein Training in der Halle möglich ist\, wird ein Zoom-Online-Training angeboten. \nFalls nicht bekannt die Details zur Einwahl unter basketball@tsv-forstenried.de erfragen.
URL:https://www.tsv-forstenried.de/event/u14-zoom-training-jan-feb/2021-01-29/
LOCATION:Bayern
CATEGORIES:Basketball
ATTACH;FMTTYPE=image/png:https://www.tsv-forstenried.de/wp-content/uploads/2021/01/zoom.png
END:VEVENT
END:VCALENDAR