BEGIN:VCALENDAR
VERSION:2.0
PRODID:-//TSV Forstenried e.V. - ECPv6.15.20//NONSGML v1.0//EN
CALSCALE:GREGORIAN
METHOD:PUBLISH
X-WR-CALNAME:TSV Forstenried e.V.
X-ORIGINAL-URL:https://www.tsv-forstenried.de
X-WR-CALDESC:Veranstaltungen für TSV Forstenried e.V.
REFRESH-INTERVAL;VALUE=DURATION:PT1H
X-Robots-Tag:noindex
X-PUBLISHED-TTL:PT1H
BEGIN:VTIMEZONE
TZID:Europe/Berlin
BEGIN:DAYLIGHT
TZOFFSETFROM:+0100
TZOFFSETTO:+0200
TZNAME:CEST
DTSTART:20200329T010000
END:DAYLIGHT
BEGIN:STANDARD
TZOFFSETFROM:+0200
TZOFFSETTO:+0100
TZNAME:CET
DTSTART:20201025T010000
END:STANDARD
BEGIN:DAYLIGHT
TZOFFSETFROM:+0100
TZOFFSETTO:+0200
TZNAME:CEST
DTSTART:20210328T010000
END:DAYLIGHT
BEGIN:STANDARD
TZOFFSETFROM:+0200
TZOFFSETTO:+0100
TZNAME:CET
DTSTART:20211031T010000
END:STANDARD
BEGIN:DAYLIGHT
TZOFFSETFROM:+0100
TZOFFSETTO:+0200
TZNAME:CEST
DTSTART:20220327T010000
END:DAYLIGHT
BEGIN:STANDARD
TZOFFSETFROM:+0200
TZOFFSETTO:+0100
TZNAME:CET
DTSTART:20221030T010000
END:STANDARD
END:VTIMEZONE
BEGIN:VEVENT
DTSTART;VALUE=DATE:20210110
DTEND;VALUE=DATE:20210315
DTSTAMP:20260422T110441
CREATED:20201104T135025Z
LAST-MODIFIED:20210216T182135Z
UID:10001768-1610236800-1615766399@www.tsv-forstenried.de
SUMMARY:Öffnungszeiten der Geschätsstelle im Dezember/Januar
DESCRIPTION:
URL:https://www.tsv-forstenried.de/event/oeffnungszeiten-der-geschaetsstelle-im-november/
LOCATION:Bayern
CATEGORIES:Termine
END:VEVENT
BEGIN:VEVENT
DTSTART;VALUE=DATE:20210301
DTEND;VALUE=DATE:20210302
DTSTAMP:20260422T110441
CREATED:20200302T113232Z
LAST-MODIFIED:20200314T170615Z
UID:10001599-1614556800-1614643199@www.tsv-forstenried.de
SUMMARY:Verschiebung - Erst nach Ostern: Vashvi Thaker mit 2 neuen Stunden - Kidz Yoga und Yoga
DESCRIPTION:Bei Vashvi Thaker 2 neue Kurse im Sportraum: \nMontag: 16:25-17:10 Uhr Kidz Yoga\nFreitag: 11:00-12:00 Yoga
URL:https://www.tsv-forstenried.de/event/ab-16-maerz-gibt-es-bei-vashvi-thaker-2-neue-stunden-kidz-yoga-und-yoga/2021-03-01/
LOCATION:Sportraum / TSV Forstenried\, Graubündener Str. 102\, München\, Bayern\, 81475\, Deutschland
CATEGORIES:Gymnastik,Kursplanänderung,Termine,Turnen
ATTACH;FMTTYPE=image/png:https://www.tsv-forstenried.de/wp-content/uploads/2020/03/kidz-yoga.png
END:VEVENT
BEGIN:VEVENT
DTSTART;VALUE=DATE:20210308
DTEND;VALUE=DATE:20210309
DTSTAMP:20260422T110441
CREATED:20200302T113232Z
LAST-MODIFIED:20200314T170615Z
UID:10001600-1615161600-1615247999@www.tsv-forstenried.de
SUMMARY:Verschiebung - Erst nach Ostern: Vashvi Thaker mit 2 neuen Stunden - Kidz Yoga und Yoga
DESCRIPTION:Bei Vashvi Thaker 2 neue Kurse im Sportraum: \nMontag: 16:25-17:10 Uhr Kidz Yoga\nFreitag: 11:00-12:00 Yoga
URL:https://www.tsv-forstenried.de/event/ab-16-maerz-gibt-es-bei-vashvi-thaker-2-neue-stunden-kidz-yoga-und-yoga/2021-03-08/
LOCATION:Sportraum / TSV Forstenried\, Graubündener Str. 102\, München\, Bayern\, 81475\, Deutschland
CATEGORIES:Gymnastik,Kursplanänderung,Termine,Turnen
ATTACH;FMTTYPE=image/png:https://www.tsv-forstenried.de/wp-content/uploads/2020/03/kidz-yoga.png
END:VEVENT
BEGIN:VEVENT
DTSTART;VALUE=DATE:20210309
DTEND;VALUE=DATE:20210406
DTSTAMP:20260422T110441
CREATED:20210309T125809Z
LAST-MODIFIED:20210319T073645Z
UID:10001820-1615248000-1617667199@www.tsv-forstenried.de
SUMMARY:UPDATE: OB Reiter: Vorerst keine weiteren Lockerungen. Wir halten Sie hier auf dem Laufenden!
DESCRIPTION:UPDATE: Vorerst keine Öffnung der Tennishalle – OB Reiter stoppt den 4. Öffnungsschritt: Kein kontaktfreier Sport im Innenbereich\, kein Kontaktsport im Außenbereich erlaubt. Wir halten Sie hier auf dem Laufenden!
URL:https://www.tsv-forstenried.de/event/update-zur-tennishalle/
LOCATION:Bayern
CATEGORIES:Termine
ATTACH;FMTTYPE=image/jpeg:https://www.tsv-forstenried.de/wp-content/uploads/2021/03/panorama_halle-scaled.jpg
END:VEVENT
BEGIN:VEVENT
DTSTART;VALUE=DATE:20210315
DTEND;VALUE=DATE:20210316
DTSTAMP:20260422T110441
CREATED:20200302T113232Z
LAST-MODIFIED:20200314T170615Z
UID:10001601-1615766400-1615852799@www.tsv-forstenried.de
SUMMARY:Verschiebung - Erst nach Ostern: Vashvi Thaker mit 2 neuen Stunden - Kidz Yoga und Yoga
DESCRIPTION:Bei Vashvi Thaker 2 neue Kurse im Sportraum: \nMontag: 16:25-17:10 Uhr Kidz Yoga\nFreitag: 11:00-12:00 Yoga
URL:https://www.tsv-forstenried.de/event/ab-16-maerz-gibt-es-bei-vashvi-thaker-2-neue-stunden-kidz-yoga-und-yoga/2021-03-15/
LOCATION:Sportraum / TSV Forstenried\, Graubündener Str. 102\, München\, Bayern\, 81475\, Deutschland
CATEGORIES:Gymnastik,Kursplanänderung,Termine,Turnen
ATTACH;FMTTYPE=image/png:https://www.tsv-forstenried.de/wp-content/uploads/2020/03/kidz-yoga.png
END:VEVENT
BEGIN:VEVENT
DTSTART;VALUE=DATE:20210322
DTEND;VALUE=DATE:20210323
DTSTAMP:20260422T110441
CREATED:20200302T113232Z
LAST-MODIFIED:20200314T170615Z
UID:10001602-1616371200-1616457599@www.tsv-forstenried.de
SUMMARY:Verschiebung - Erst nach Ostern: Vashvi Thaker mit 2 neuen Stunden - Kidz Yoga und Yoga
DESCRIPTION:Bei Vashvi Thaker 2 neue Kurse im Sportraum: \nMontag: 16:25-17:10 Uhr Kidz Yoga\nFreitag: 11:00-12:00 Yoga
URL:https://www.tsv-forstenried.de/event/ab-16-maerz-gibt-es-bei-vashvi-thaker-2-neue-stunden-kidz-yoga-und-yoga/2021-03-22/
LOCATION:Sportraum / TSV Forstenried\, Graubündener Str. 102\, München\, Bayern\, 81475\, Deutschland
CATEGORIES:Gymnastik,Kursplanänderung,Termine,Turnen
ATTACH;FMTTYPE=image/png:https://www.tsv-forstenried.de/wp-content/uploads/2020/03/kidz-yoga.png
END:VEVENT
BEGIN:VEVENT
DTSTART;VALUE=DATE:20210329
DTEND;VALUE=DATE:20210330
DTSTAMP:20260422T110441
CREATED:20200302T113232Z
LAST-MODIFIED:20200314T170615Z
UID:10001603-1616976000-1617062399@www.tsv-forstenried.de
SUMMARY:Verschiebung - Erst nach Ostern: Vashvi Thaker mit 2 neuen Stunden - Kidz Yoga und Yoga
DESCRIPTION:Bei Vashvi Thaker 2 neue Kurse im Sportraum: \nMontag: 16:25-17:10 Uhr Kidz Yoga\nFreitag: 11:00-12:00 Yoga
URL:https://www.tsv-forstenried.de/event/ab-16-maerz-gibt-es-bei-vashvi-thaker-2-neue-stunden-kidz-yoga-und-yoga/2021-03-29/
LOCATION:Sportraum / TSV Forstenried\, Graubündener Str. 102\, München\, Bayern\, 81475\, Deutschland
CATEGORIES:Gymnastik,Kursplanänderung,Termine,Turnen
ATTACH;FMTTYPE=image/png:https://www.tsv-forstenried.de/wp-content/uploads/2020/03/kidz-yoga.png
END:VEVENT
END:VCALENDAR