BEGIN:VCALENDAR
VERSION:2.0
PRODID:-//TSV Forstenried e.V. - ECPv6.15.20//NONSGML v1.0//EN
CALSCALE:GREGORIAN
METHOD:PUBLISH
X-ORIGINAL-URL:https://www.tsv-forstenried.de
X-WR-CALDESC:Veranstaltungen für TSV Forstenried e.V.
REFRESH-INTERVAL;VALUE=DURATION:PT1H
X-Robots-Tag:noindex
X-PUBLISHED-TTL:PT1H
BEGIN:VTIMEZONE
TZID:Europe/Berlin
BEGIN:DAYLIGHT
TZOFFSETFROM:+0100
TZOFFSETTO:+0200
TZNAME:CEST
DTSTART:20240331T010000
END:DAYLIGHT
BEGIN:STANDARD
TZOFFSETFROM:+0200
TZOFFSETTO:+0100
TZNAME:CET
DTSTART:20241027T010000
END:STANDARD
BEGIN:DAYLIGHT
TZOFFSETFROM:+0100
TZOFFSETTO:+0200
TZNAME:CEST
DTSTART:20250330T010000
END:DAYLIGHT
BEGIN:STANDARD
TZOFFSETFROM:+0200
TZOFFSETTO:+0100
TZNAME:CET
DTSTART:20251026T010000
END:STANDARD
BEGIN:DAYLIGHT
TZOFFSETFROM:+0100
TZOFFSETTO:+0200
TZNAME:CEST
DTSTART:20260329T010000
END:DAYLIGHT
BEGIN:STANDARD
TZOFFSETFROM:+0200
TZOFFSETTO:+0100
TZNAME:CET
DTSTART:20261025T010000
END:STANDARD
BEGIN:DAYLIGHT
TZOFFSETFROM:+0100
TZOFFSETTO:+0200
TZNAME:CEST
DTSTART:20270328T010000
END:DAYLIGHT
BEGIN:STANDARD
TZOFFSETFROM:+0200
TZOFFSETTO:+0100
TZNAME:CET
DTSTART:20271031T010000
END:STANDARD
END:VTIMEZONE
BEGIN:VEVENT
DTSTART;TZID=Europe/Berlin:20251009T080000
DTEND;TZID=Europe/Berlin:20260410T170000
DTSTAMP:20260423T200546
CREATED:20251009T131014Z
LAST-MODIFIED:20260401T074409Z
UID:10002544-1759996800-1775840400@www.tsv-forstenried.de
SUMMARY:während der Ferien entfallen die Kursangebote für Kinder & Erwachsene
DESCRIPTION:
URL:https://www.tsv-forstenried.de/event/ausfall/
LOCATION:Schachraum / TSV Geschäftsstelle\, Graubündener Str. 100\, München\, Bayern\, 81475\, Germany
CATEGORIES:Kursaufall
END:VEVENT
BEGIN:VEVENT
DTSTART;TZID=Europe/Berlin:20260301T170000
DTEND;TZID=Europe/Berlin:20260301T190000
DTSTAMP:20260423T200546
CREATED:20260213T105750Z
LAST-MODIFIED:20260213T105750Z
UID:10002550-1772384400-1772391600@www.tsv-forstenried.de
SUMMARY:Heimspiel der H1 um BOL Tabellenführung zu sichern
DESCRIPTION:BOL Herren Tabelle – durch den direkten Vergleich mit Haching Baskets liegen unsere Herren 1 auf Platz 1. \nDie Herren freuen sich über Zuschauerunterstützung um auch im Rückspiel die Nase vorne zu behalten. Es verspricht spannend zu werden!
URL:https://www.tsv-forstenried.de/event/heimspiel-der-h1-um-bol-tabellenfuehrung-zu-sichern/
LOCATION:Turnhalle Grundschule an der Baierbrunnerstraße (Halle)\, Baierbrunnerstr. 53\, München\, Bayern\, 81379\, Deutschland
CATEGORIES:Basketball
ATTACH;FMTTYPE=image/jpeg:https://www.tsv-forstenried.de/wp-content/uploads/2025/10/Herren-1-TV-Jahn-Muenchen-IMG_2675-scaled.jpg
END:VEVENT
BEGIN:VEVENT
DTSTART;TZID=Europe/Berlin:20260302T083000
DTEND;TZID=Europe/Berlin:20260302T100000
DTSTAMP:20260423T200546
CREATED:20250715T153848Z
LAST-MODIFIED:20250715T155547Z
UID:10002191-1772440200-1772445600@www.tsv-forstenried.de
SUMMARY:YOGA bei ERIKA
DESCRIPTION:
URL:https://www.tsv-forstenried.de/event/yoga-bei-erika/2026-03-02/
LOCATION:Sportraum / TSV Forstenried\, Graubündener Str. 102\, München\, Bayern\, 81475\, Deutschland
CATEGORIES:TG Kurse Erwachsene
ATTACH;FMTTYPE=image/png:https://www.tsv-forstenried.de/wp-content/uploads/2025/07/Yoga.png
END:VEVENT
BEGIN:VEVENT
DTSTART;TZID=Europe/Berlin:20260308T094500
DTEND;TZID=Europe/Berlin:20260308T213000
DTSTAMP:20260423T200546
CREATED:20260213T104454Z
LAST-MODIFIED:20260213T110617Z
UID:10002549-1772963100-1773005400@www.tsv-forstenried.de
SUMMARY:Heimspieltag mit Forstenrieder Cheerleader (TMG\, Gmunder Str. 45!)
DESCRIPTION:Datum\nHeim\nGast\n\n\n08.03.2026 09:45\nU10m\nTuS Fürstenfeldbruck\n\n\n08.03.2026 12:00\nU14m-2\nSC Vierkirchen\n\n\n08.03.2026 14:30\nU14-1\nTSV 1865 Dachau\n\n\n08.03.2026 17:00\nDamen\nTuS Fürstenfeldbruck 2\n\n\n08.03.2026 19:30\nHerren 2\nSC Vierkirchen
URL:https://www.tsv-forstenried.de/event/heimspieltag-mit-forstenrieder-cheerleader/
LOCATION:Sporthalle TMG – Gmunder Str. 45\, Gmunder Str. 45\, München\, 81379\, Germany
CATEGORIES:Basketball
ATTACH;FMTTYPE=image/jpeg:https://www.tsv-forstenried.de/wp-content/uploads/2026/02/2026-02_Cheerleeder-U14-2-scaled.jpg
END:VEVENT
BEGIN:VEVENT
DTSTART;TZID=Europe/Berlin:20260309T083000
DTEND;TZID=Europe/Berlin:20260309T100000
DTSTAMP:20260423T200546
CREATED:20250715T153848Z
LAST-MODIFIED:20250715T155547Z
UID:10002192-1773045000-1773050400@www.tsv-forstenried.de
SUMMARY:YOGA bei ERIKA
DESCRIPTION:
URL:https://www.tsv-forstenried.de/event/yoga-bei-erika/2026-03-09/
LOCATION:Sportraum / TSV Forstenried\, Graubündener Str. 102\, München\, Bayern\, 81475\, Deutschland
CATEGORIES:TG Kurse Erwachsene
ATTACH;FMTTYPE=image/png:https://www.tsv-forstenried.de/wp-content/uploads/2025/07/Yoga.png
END:VEVENT
BEGIN:VEVENT
DTSTART;TZID=Europe/Berlin:20260316T083000
DTEND;TZID=Europe/Berlin:20260316T100000
DTSTAMP:20260423T200546
CREATED:20250715T153848Z
LAST-MODIFIED:20250715T155547Z
UID:10002193-1773649800-1773655200@www.tsv-forstenried.de
SUMMARY:YOGA bei ERIKA
DESCRIPTION:
URL:https://www.tsv-forstenried.de/event/yoga-bei-erika/2026-03-16/
LOCATION:Sportraum / TSV Forstenried\, Graubündener Str. 102\, München\, Bayern\, 81475\, Deutschland
CATEGORIES:TG Kurse Erwachsene
ATTACH;FMTTYPE=image/png:https://www.tsv-forstenried.de/wp-content/uploads/2025/07/Yoga.png
END:VEVENT
BEGIN:VEVENT
DTSTART;TZID=Europe/Berlin:20260317T080000
DTEND;TZID=Europe/Berlin:20260317T170000
DTSTAMP:20260423T200546
CREATED:20260317T123811Z
LAST-MODIFIED:20260401T073911Z
UID:10002553-1773734400-1773766800@www.tsv-forstenried.de
SUMMARY:Neue Kurse: *** mittwochs 18:15 Uhr Body & Breath mit Vashvi in Sportraum *** donnerstags ab 19:00 Uhr Fitness Kickboxen & Body Workout mit Rita in der Forstenrieder Grundschule ***
DESCRIPTION:
URL:https://www.tsv-forstenried.de/event/neue-kurse-mittwochs-1815-uhr-body-breath-mit-vashvi-in-sportraum-donnerstags-ab-1900-uhr-fitness-kickboxen-body-workout-mit-rita-in-der-forstenrieder-grundschule/
LOCATION:Bayern
CATEGORIES:Kursaufall
END:VEVENT
BEGIN:VEVENT
DTSTART;TZID=Europe/Berlin:20260323T083000
DTEND;TZID=Europe/Berlin:20260323T100000
DTSTAMP:20260423T200546
CREATED:20250715T153848Z
LAST-MODIFIED:20250715T155547Z
UID:10002194-1774254600-1774260000@www.tsv-forstenried.de
SUMMARY:YOGA bei ERIKA
DESCRIPTION:
URL:https://www.tsv-forstenried.de/event/yoga-bei-erika/2026-03-23/
LOCATION:Sportraum / TSV Forstenried\, Graubündener Str. 102\, München\, Bayern\, 81475\, Deutschland
CATEGORIES:TG Kurse Erwachsene
ATTACH;FMTTYPE=image/png:https://www.tsv-forstenried.de/wp-content/uploads/2025/07/Yoga.png
END:VEVENT
BEGIN:VEVENT
DTSTART;TZID=Europe/Berlin:20260330T083000
DTEND;TZID=Europe/Berlin:20260330T100000
DTSTAMP:20260423T200546
CREATED:20250715T153848Z
LAST-MODIFIED:20250715T155547Z
UID:10002195-1774859400-1774864800@www.tsv-forstenried.de
SUMMARY:YOGA bei ERIKA
DESCRIPTION:
URL:https://www.tsv-forstenried.de/event/yoga-bei-erika/2026-03-30/
LOCATION:Sportraum / TSV Forstenried\, Graubündener Str. 102\, München\, Bayern\, 81475\, Deutschland
CATEGORIES:TG Kurse Erwachsene
ATTACH;FMTTYPE=image/png:https://www.tsv-forstenried.de/wp-content/uploads/2025/07/Yoga.png
END:VEVENT
END:VCALENDAR