BEGIN:VCALENDAR
VERSION:2.0
PRODID:-//TSV Forstenried e.V. - ECPv6.15.20//NONSGML v1.0//EN
CALSCALE:GREGORIAN
METHOD:PUBLISH
X-ORIGINAL-URL:https://www.tsv-forstenried.de
X-WR-CALDESC:Veranstaltungen für TSV Forstenried e.V.
REFRESH-INTERVAL;VALUE=DURATION:PT1H
X-Robots-Tag:noindex
X-PUBLISHED-TTL:PT1H
BEGIN:VTIMEZONE
TZID:Europe/Berlin
BEGIN:DAYLIGHT
TZOFFSETFROM:+0100
TZOFFSETTO:+0200
TZNAME:CEST
DTSTART:20250330T010000
END:DAYLIGHT
BEGIN:STANDARD
TZOFFSETFROM:+0200
TZOFFSETTO:+0100
TZNAME:CET
DTSTART:20251026T010000
END:STANDARD
BEGIN:DAYLIGHT
TZOFFSETFROM:+0100
TZOFFSETTO:+0200
TZNAME:CEST
DTSTART:20260329T010000
END:DAYLIGHT
BEGIN:STANDARD
TZOFFSETFROM:+0200
TZOFFSETTO:+0100
TZNAME:CET
DTSTART:20261025T010000
END:STANDARD
BEGIN:DAYLIGHT
TZOFFSETFROM:+0100
TZOFFSETTO:+0200
TZNAME:CEST
DTSTART:20270328T010000
END:DAYLIGHT
BEGIN:STANDARD
TZOFFSETFROM:+0200
TZOFFSETTO:+0100
TZNAME:CET
DTSTART:20271031T010000
END:STANDARD
END:VTIMEZONE
BEGIN:VEVENT
DTSTART;VALUE=DATE:20260626
DTEND;VALUE=DATE:20260704
DTSTAMP:20260426T051510
CREATED:20260313T124841Z
LAST-MODIFIED:20260313T124841Z
UID:10002552-1782432000-1783123199@www.tsv-forstenried.de
SUMMARY:Quali-Prüfungen 2026
DESCRIPTION:Vom Freitag 26. Juni bis zum Donnerstag 2. Juli 2026 finden in den beiden Turnhallen der Walliser Schule die Abschlussprüfungen für den Qualifizierenden Abschluss der Mittelschule statt. \nUnser Training fällt deshalb aus. Am 3.  Juli haben wir einen Tanzabend im Bürgersaal.\nEs geht weiter mit dem Training am Donnerstag\, 2. Juli oder Dienstag 7. Juli 2026.
URL:https://www.tsv-forstenried.de/event/quali-pruefungen-2026/
LOCATION:Turnhalle der Mittelschule an der Walliser Straße (Halle 2)\, Walliser Str. 5\, München Fürstenried-West\, Bayern\, 81475\, Deutschland
CATEGORIES:Tanzsport
ATTACH;FMTTYPE=image/png:https://www.tsv-forstenried.de/wp-content/uploads/2026/03/Schulveranstaltung-1600-mTxt.png
ORGANIZER;CN="TSV Forstenried -Tanzsport":MAILTO:ts-al@tsv-forstenried.de
END:VEVENT
END:VCALENDAR