BEGIN:VCALENDAR
VERSION:2.0
PRODID:-//TSV Forstenried e.V. - ECPv6.15.20//NONSGML v1.0//EN
CALSCALE:GREGORIAN
METHOD:PUBLISH
X-WR-CALNAME:TSV Forstenried e.V.
X-ORIGINAL-URL:https://www.tsv-forstenried.de
X-WR-CALDESC:Veranstaltungen für TSV Forstenried e.V.
REFRESH-INTERVAL;VALUE=DURATION:PT1H
X-Robots-Tag:noindex
X-PUBLISHED-TTL:PT1H
BEGIN:VTIMEZONE
TZID:Europe/Berlin
BEGIN:DAYLIGHT
TZOFFSETFROM:+0100
TZOFFSETTO:+0200
TZNAME:CEST
DTSTART:20200329T010000
END:DAYLIGHT
BEGIN:STANDARD
TZOFFSETFROM:+0200
TZOFFSETTO:+0100
TZNAME:CET
DTSTART:20201025T010000
END:STANDARD
BEGIN:DAYLIGHT
TZOFFSETFROM:+0100
TZOFFSETTO:+0200
TZNAME:CEST
DTSTART:20210328T010000
END:DAYLIGHT
BEGIN:STANDARD
TZOFFSETFROM:+0200
TZOFFSETTO:+0100
TZNAME:CET
DTSTART:20211031T010000
END:STANDARD
BEGIN:DAYLIGHT
TZOFFSETFROM:+0100
TZOFFSETTO:+0200
TZNAME:CEST
DTSTART:20220327T010000
END:DAYLIGHT
BEGIN:STANDARD
TZOFFSETFROM:+0200
TZOFFSETTO:+0100
TZNAME:CET
DTSTART:20221030T010000
END:STANDARD
END:VTIMEZONE
BEGIN:VEVENT
DTSTART;VALUE=DATE:20210110
DTEND;VALUE=DATE:20210315
DTSTAMP:20260424T141748
CREATED:20201104T135025Z
LAST-MODIFIED:20210216T182135Z
UID:10001768-1610236800-1615766399@www.tsv-forstenried.de
SUMMARY:Öffnungszeiten der Geschätsstelle im Dezember/Januar
DESCRIPTION:
URL:https://www.tsv-forstenried.de/event/oeffnungszeiten-der-geschaetsstelle-im-november/
LOCATION:Bayern
CATEGORIES:Termine
END:VEVENT
BEGIN:VEVENT
DTSTART;VALUE=DATE:20210215
DTEND;VALUE=DATE:20210216
DTSTAMP:20260424T141748
CREATED:20200302T113232Z
LAST-MODIFIED:20200314T170615Z
UID:10001597-1613347200-1613433599@www.tsv-forstenried.de
SUMMARY:Verschiebung - Erst nach Ostern: Vashvi Thaker mit 2 neuen Stunden - Kidz Yoga und Yoga
DESCRIPTION:Bei Vashvi Thaker 2 neue Kurse im Sportraum: \nMontag: 16:25-17:10 Uhr Kidz Yoga\nFreitag: 11:00-12:00 Yoga
URL:https://www.tsv-forstenried.de/event/ab-16-maerz-gibt-es-bei-vashvi-thaker-2-neue-stunden-kidz-yoga-und-yoga/2021-02-15/
LOCATION:Sportraum / TSV Forstenried\, Graubündener Str. 102\, München\, Bayern\, 81475\, Deutschland
CATEGORIES:Gymnastik,Kursplanänderung,Termine,Turnen
ATTACH;FMTTYPE=image/png:https://www.tsv-forstenried.de/wp-content/uploads/2020/03/kidz-yoga.png
END:VEVENT
BEGIN:VEVENT
DTSTART;TZID=Europe/Berlin:20210215T180000
DTEND;TZID=Europe/Berlin:20210215T190000
DTSTAMP:20260424T141748
CREATED:20210109T204623Z
LAST-MODIFIED:20210109T204952Z
UID:10001800-1613412000-1613415600@www.tsv-forstenried.de
SUMMARY:U14 - Zoom Training (Jan./Feb.)
DESCRIPTION:Solange kein Training in der Halle möglich ist\, wird ein Zoom-Online-Training angeboten. \nFalls nicht bekannt die Details zur Einwahl unter basketball@tsv-forstenried.de erfragen.
URL:https://www.tsv-forstenried.de/event/u14-zoom-training-jan-feb/2021-02-15/
LOCATION:Bayern
CATEGORIES:Basketball
ATTACH;FMTTYPE=image/png:https://www.tsv-forstenried.de/wp-content/uploads/2021/01/zoom.png
END:VEVENT
BEGIN:VEVENT
DTSTART;TZID=Europe/Berlin:20210215T201500
DTEND;TZID=Europe/Berlin:20210215T213000
DTSTAMP:20260424T141748
CREATED:20210109T205452Z
LAST-MODIFIED:20210109T205601Z
UID:10001816-1613420100-1613424600@www.tsv-forstenried.de
SUMMARY:Damen - Zoom Training (Jan./Feb.)
DESCRIPTION:
URL:https://www.tsv-forstenried.de/event/damen-zoom-training-jan-feb/2021-02-15/
LOCATION:Bayern
CATEGORIES:Basketball
ATTACH;FMTTYPE=image/png:https://www.tsv-forstenried.de/wp-content/uploads/2021/01/zoom.png
END:VEVENT
BEGIN:VEVENT
DTSTART;TZID=Europe/Berlin:20210217T180000
DTEND;TZID=Europe/Berlin:20210217T190000
DTSTAMP:20260424T141748
CREATED:20210109T200437Z
LAST-MODIFIED:20210109T205112Z
UID:10001781-1613584800-1613588400@www.tsv-forstenried.de
SUMMARY:U16 - Zoom Training (Jan./Feb.)
DESCRIPTION:Solange kein Training in der Halle möglich ist\, wird ein Zoom-Online-Training angeboten. \nFalls nicht bekannt die Details zur Einwahl unter u16-bb@tsv-forstenried.de erfragen.
URL:https://www.tsv-forstenried.de/event/u16-zoom-training-jan-feb/2021-02-17/
LOCATION:Bayern
CATEGORIES:Basketball
ATTACH;FMTTYPE=image/png:https://www.tsv-forstenried.de/wp-content/uploads/2021/01/zoom.png
END:VEVENT
BEGIN:VEVENT
DTSTART;TZID=Europe/Berlin:20210217T180000
DTEND;TZID=Europe/Berlin:20210217T190000
DTSTAMP:20260424T141748
CREATED:20210109T204623Z
LAST-MODIFIED:20210109T204952Z
UID:10001801-1613584800-1613588400@www.tsv-forstenried.de
SUMMARY:U14 - Zoom Training (Jan./Feb.)
DESCRIPTION:Solange kein Training in der Halle möglich ist\, wird ein Zoom-Online-Training angeboten. \nFalls nicht bekannt die Details zur Einwahl unter basketball@tsv-forstenried.de erfragen.
URL:https://www.tsv-forstenried.de/event/u14-zoom-training-jan-feb/2021-02-17/
LOCATION:Bayern
CATEGORIES:Basketball
ATTACH;FMTTYPE=image/png:https://www.tsv-forstenried.de/wp-content/uploads/2021/01/zoom.png
END:VEVENT
BEGIN:VEVENT
DTSTART;TZID=Europe/Berlin:20210218T201500
DTEND;TZID=Europe/Berlin:20210218T213000
DTSTAMP:20260424T141748
CREATED:20210109T205452Z
LAST-MODIFIED:20210109T205601Z
UID:10001817-1613679300-1613683800@www.tsv-forstenried.de
SUMMARY:Damen - Zoom Training (Jan./Feb.)
DESCRIPTION:
URL:https://www.tsv-forstenried.de/event/damen-zoom-training-jan-feb/2021-02-18/
LOCATION:Bayern
CATEGORIES:Basketball
ATTACH;FMTTYPE=image/png:https://www.tsv-forstenried.de/wp-content/uploads/2021/01/zoom.png
END:VEVENT
BEGIN:VEVENT
DTSTART;TZID=Europe/Berlin:20210219T180000
DTEND;TZID=Europe/Berlin:20210219T190000
DTSTAMP:20260424T141748
CREATED:20210109T200437Z
LAST-MODIFIED:20210109T205112Z
UID:10001782-1613757600-1613761200@www.tsv-forstenried.de
SUMMARY:U16 - Zoom Training (Jan./Feb.)
DESCRIPTION:Solange kein Training in der Halle möglich ist\, wird ein Zoom-Online-Training angeboten. \nFalls nicht bekannt die Details zur Einwahl unter u16-bb@tsv-forstenried.de erfragen.
URL:https://www.tsv-forstenried.de/event/u16-zoom-training-jan-feb/2021-02-19/
LOCATION:Bayern
CATEGORIES:Basketball
ATTACH;FMTTYPE=image/png:https://www.tsv-forstenried.de/wp-content/uploads/2021/01/zoom.png
END:VEVENT
BEGIN:VEVENT
DTSTART;TZID=Europe/Berlin:20210219T180000
DTEND;TZID=Europe/Berlin:20210219T190000
DTSTAMP:20260424T141748
CREATED:20210109T204623Z
LAST-MODIFIED:20210109T204952Z
UID:10001802-1613757600-1613761200@www.tsv-forstenried.de
SUMMARY:U14 - Zoom Training (Jan./Feb.)
DESCRIPTION:Solange kein Training in der Halle möglich ist\, wird ein Zoom-Online-Training angeboten. \nFalls nicht bekannt die Details zur Einwahl unter basketball@tsv-forstenried.de erfragen.
URL:https://www.tsv-forstenried.de/event/u14-zoom-training-jan-feb/2021-02-19/
LOCATION:Bayern
CATEGORIES:Basketball
ATTACH;FMTTYPE=image/png:https://www.tsv-forstenried.de/wp-content/uploads/2021/01/zoom.png
END:VEVENT
END:VCALENDAR