BEGIN:VCALENDAR
VERSION:2.0
PRODID:-//TSV Forstenried e.V. - ECPv6.15.20//NONSGML v1.0//EN
CALSCALE:GREGORIAN
METHOD:PUBLISH
X-ORIGINAL-URL:https://www.tsv-forstenried.de
X-WR-CALDESC:Veranstaltungen für TSV Forstenried e.V.
REFRESH-INTERVAL;VALUE=DURATION:PT1H
X-Robots-Tag:noindex
X-PUBLISHED-TTL:PT1H
BEGIN:VTIMEZONE
TZID:Europe/Berlin
BEGIN:DAYLIGHT
TZOFFSETFROM:+0100
TZOFFSETTO:+0200
TZNAME:CEST
DTSTART:20200329T010000
END:DAYLIGHT
BEGIN:STANDARD
TZOFFSETFROM:+0200
TZOFFSETTO:+0100
TZNAME:CET
DTSTART:20201025T010000
END:STANDARD
BEGIN:DAYLIGHT
TZOFFSETFROM:+0100
TZOFFSETTO:+0200
TZNAME:CEST
DTSTART:20210328T010000
END:DAYLIGHT
BEGIN:STANDARD
TZOFFSETFROM:+0200
TZOFFSETTO:+0100
TZNAME:CET
DTSTART:20211031T010000
END:STANDARD
BEGIN:DAYLIGHT
TZOFFSETFROM:+0100
TZOFFSETTO:+0200
TZNAME:CEST
DTSTART:20220327T010000
END:DAYLIGHT
BEGIN:STANDARD
TZOFFSETFROM:+0200
TZOFFSETTO:+0100
TZNAME:CET
DTSTART:20221030T010000
END:STANDARD
END:VTIMEZONE
BEGIN:VEVENT
DTSTART;VALUE=DATE:20210621
DTEND;VALUE=DATE:20210622
DTSTAMP:20260425T165055
CREATED:20200302T113232Z
LAST-MODIFIED:20200314T170615Z
UID:10001615-1624233600-1624319999@www.tsv-forstenried.de
SUMMARY:Verschiebung - Erst nach Ostern: Vashvi Thaker mit 2 neuen Stunden - Kidz Yoga und Yoga
DESCRIPTION:Bei Vashvi Thaker 2 neue Kurse im Sportraum: \nMontag: 16:25-17:10 Uhr Kidz Yoga\nFreitag: 11:00-12:00 Yoga
URL:https://www.tsv-forstenried.de/event/ab-16-maerz-gibt-es-bei-vashvi-thaker-2-neue-stunden-kidz-yoga-und-yoga/2021-06-21/
LOCATION:Sportraum / TSV Forstenried\, Graubündener Str. 102\, München\, Bayern\, 81475\, Deutschland
CATEGORIES:Gymnastik,Kursplanänderung,Termine,Turnen
ATTACH;FMTTYPE=image/png:https://www.tsv-forstenried.de/wp-content/uploads/2020/03/kidz-yoga.png
END:VEVENT
BEGIN:VEVENT
DTSTART;VALUE=DATE:20210621
DTEND;VALUE=DATE:20210623
DTSTAMP:20260425T165055
CREATED:20200305T130715Z
LAST-MODIFIED:20210621T081716Z
UID:10001715-1624233600-1624406399@www.tsv-forstenried.de
SUMMARY:Di. 22.06.2021 WBS-Gymnastik via ZOOM entfällt
DESCRIPTION:Am Dienstag\, 22.06.2021 entfällt die WBS-Gymnastik 18:00 Uhr auf ZOOM mit Sandra Lins.
URL:https://www.tsv-forstenried.de/event/wbs-gym_di_entfaellt_zoom/
LOCATION:Bayern
CATEGORIES:Gymnastik,Kursplanänderung,Turnen
END:VEVENT
END:VCALENDAR