BEGIN:VCALENDAR
VERSION:2.0
PRODID:-//TSV Forstenried e.V. - ECPv6.15.20//NONSGML v1.0//EN
CALSCALE:GREGORIAN
METHOD:PUBLISH
X-ORIGINAL-URL:https://www.tsv-forstenried.de
X-WR-CALDESC:Veranstaltungen für TSV Forstenried e.V.
REFRESH-INTERVAL;VALUE=DURATION:PT1H
X-Robots-Tag:noindex
X-PUBLISHED-TTL:PT1H
BEGIN:VTIMEZONE
TZID:Europe/Berlin
BEGIN:DAYLIGHT
TZOFFSETFROM:+0100
TZOFFSETTO:+0200
TZNAME:CEST
DTSTART:20190331T010000
END:DAYLIGHT
BEGIN:STANDARD
TZOFFSETFROM:+0200
TZOFFSETTO:+0100
TZNAME:CET
DTSTART:20191027T010000
END:STANDARD
BEGIN:DAYLIGHT
TZOFFSETFROM:+0100
TZOFFSETTO:+0200
TZNAME:CEST
DTSTART:20200329T010000
END:DAYLIGHT
BEGIN:STANDARD
TZOFFSETFROM:+0200
TZOFFSETTO:+0100
TZNAME:CET
DTSTART:20201025T010000
END:STANDARD
BEGIN:DAYLIGHT
TZOFFSETFROM:+0100
TZOFFSETTO:+0200
TZNAME:CEST
DTSTART:20210328T010000
END:DAYLIGHT
BEGIN:STANDARD
TZOFFSETFROM:+0200
TZOFFSETTO:+0100
TZNAME:CET
DTSTART:20211031T010000
END:STANDARD
END:VTIMEZONE
BEGIN:VEVENT
DTSTART;TZID=Europe/Berlin:20200730T183000
DTEND;TZID=Europe/Berlin:20200730T200000
DTSTAMP:20260421T164540
CREATED:20230510T135037Z
LAST-MODIFIED:20230510T135037Z
UID:10001738-1596133800-1596139200@www.tsv-forstenried.de
SUMMARY:Online-Training mit Robin und Stefi jeweils Di und Do 18:30 Uhr
DESCRIPTION:Liebe Tänzer\, \nAm Dienstag\, 21. Juli\, 18:30 Uhr\,  findet unser nächstes Online-Training mit Stefi und Robin per Video-Streaming statt. \nDer Zugangs-Code ist euch allen bereits per E-Mail mitgeteilt worden. Auch für die weiteren Termine bleiben Meeting-Code und Passwort gleich.\nDie nachfolgenden Termine sind: \n        Jul 23\, 2020 18:30\n        Jul 28\, 2020 18:30\n        Jul 30\, 2020 18:30\n      
URL:https://www.tsv-forstenried.de/event/online-training-donnerstag-7-mai-2020/2020-07-30/
LOCATION:Online
CATEGORIES:Tanzsport
ATTACH;FMTTYPE=image/jpeg:https://www.tsv-forstenried.de/wp-content/uploads/2020/05/Paso.jpg
ORGANIZER;CN="TSV Forstenried -Tanzsport":MAILTO:ts-al@tsv-forstenried.de
END:VEVENT
BEGIN:VEVENT
DTSTART;TZID=Europe/Berlin:20200618T200000
DTEND;TZID=Europe/Berlin:20200618T213000
DTSTAMP:20260421T164540
CREATED:20200504T180627Z
LAST-MODIFIED:20200618T154529Z
UID:10001739-1592510400-1592515800@www.tsv-forstenried.de
SUMMARY:Online-Training mit Robin und Stefi jeweils Di und Do 18:30 Uhr
DESCRIPTION:Liebe Tänzer\, \nAm Dienstag\, 2. Juni\, 18:30 Uhr\,  findet unser nächstes Online-Training mit Stefi und Robin per Video-Streaming statt. \nDer Zugangs-Code ist euch allen bereits per E-Mail mitgeteilt worden. Auch für die weiteren Termine bleiben Meeting-Code und Passwort gleich.\nDie nachfolgenden Termine sind:\n4.Jun.2020\, 9.Jun.2020\, 11.Jun.2020\, 16.Jun.2020\, 18.Jun.2020\,\n23.Jun.2020\, 25.Jun.2020\, 30.Jun.2020\, 2.Jul.2020\, 7.Jul.2020 06:30 PM\,\n9.Jul.2020\, 14.Jul.2020
URL:https://www.tsv-forstenried.de/event/online-training-donnerstag-7-mai-2020-2020-06-18/
LOCATION:Online
CATEGORIES:Tanzsport
ATTACH;FMTTYPE=image/jpeg:https://www.tsv-forstenried.de/wp-content/uploads/2020/05/Paso.jpg
ORGANIZER;CN="TSV Forstenried -Tanzsport":MAILTO:ts-al@tsv-forstenried.de
END:VEVENT
END:VCALENDAR